BEGIN:VCALENDAR
VERSION:2.0
PRODID:-//Raleigh Iron Works - ECPv6.15.20//NONSGML v1.0//EN
CALSCALE:GREGORIAN
METHOD:PUBLISH
X-WR-CALNAME:Raleigh Iron Works
X-ORIGINAL-URL:https://raleighironworks.com
X-WR-CALDESC:Events for Raleigh Iron Works
REFRESH-INTERVAL;VALUE=DURATION:PT1H
X-Robots-Tag:noindex
X-PUBLISHED-TTL:PT1H
BEGIN:VTIMEZONE
TZID:America/Los_Angeles
BEGIN:DAYLIGHT
TZOFFSETFROM:-0800
TZOFFSETTO:-0700
TZNAME:PDT
DTSTART:20240310T100000
END:DAYLIGHT
BEGIN:STANDARD
TZOFFSETFROM:-0700
TZOFFSETTO:-0800
TZNAME:PST
DTSTART:20241103T090000
END:STANDARD
BEGIN:DAYLIGHT
TZOFFSETFROM:-0800
TZOFFSETTO:-0700
TZNAME:PDT
DTSTART:20250309T100000
END:DAYLIGHT
BEGIN:STANDARD
TZOFFSETFROM:-0700
TZOFFSETTO:-0800
TZNAME:PST
DTSTART:20251102T090000
END:STANDARD
BEGIN:DAYLIGHT
TZOFFSETFROM:-0800
TZOFFSETTO:-0700
TZNAME:PDT
DTSTART:20260308T100000
END:DAYLIGHT
BEGIN:STANDARD
TZOFFSETFROM:-0700
TZOFFSETTO:-0800
TZNAME:PST
DTSTART:20261101T090000
END:STANDARD
BEGIN:DAYLIGHT
TZOFFSETFROM:-0800
TZOFFSETTO:-0700
TZNAME:PDT
DTSTART:20270314T100000
END:DAYLIGHT
BEGIN:STANDARD
TZOFFSETFROM:-0700
TZOFFSETTO:-0800
TZNAME:PST
DTSTART:20271107T090000
END:STANDARD
END:VTIMEZONE
BEGIN:VEVENT
DTSTART;TZID=America/Los_Angeles:20260207T110000
DTEND;TZID=America/Los_Angeles:20260207T160000
DTSTAMP:20260419T074403
CREATED:20260122T201431Z
LAST-MODIFIED:20260122T201706Z
UID:10004671-1770462000-1770480000@raleighironworks.com
SUMMARY:Lunar New Year Market
DESCRIPTION:
URL:https://raleighironworks.com/event/2125/
LOCATION:Raleigh Iron Works\, 2200 Atlantic Ave\, Raleigh\, NC\, 27604\, United States
CATEGORIES:District Events,Live Muisc,Markets
ATTACH;FMTTYPE=image/jpeg:https://raleighironworks.com/wp-content/uploads/2026/01/592555317_1461241636002121_1835996467396845593_n.jpg
END:VEVENT
BEGIN:VEVENT
DTSTART;TZID=America/Los_Angeles:20251218T193000
DTEND;TZID=America/Los_Angeles:20251218T233000
DTSTAMP:20260419T074403
CREATED:20251114T144132Z
LAST-MODIFIED:20251114T144840Z
UID:10004669-1766086200-1766100600@raleighironworks.com
SUMMARY:Shows at Cannonball Music Hall
DESCRIPTION:
URL:https://raleighironworks.com/event/shows-at-cannonball-music-hall/2025-12-18/
LOCATION:Cannonball Music Hall\, 2304 Atlantic Ave\, Raleigh\,\, NC\, 27604\, United States
CATEGORIES:Live Muisc,Tenant activations
ATTACH;FMTTYPE=image/png:https://raleighironworks.com/wp-content/uploads/2025/11/Event-Header-Image-Format-.png
END:VEVENT
BEGIN:VEVENT
DTSTART;TZID=America/Los_Angeles:20251217T193000
DTEND;TZID=America/Los_Angeles:20251217T233000
DTSTAMP:20260419T074403
CREATED:20251114T144132Z
LAST-MODIFIED:20251114T144840Z
UID:10004668-1765999800-1766014200@raleighironworks.com
SUMMARY:Shows at Cannonball Music Hall
DESCRIPTION:
URL:https://raleighironworks.com/event/shows-at-cannonball-music-hall/2025-12-17/
LOCATION:Cannonball Music Hall\, 2304 Atlantic Ave\, Raleigh\,\, NC\, 27604\, United States
CATEGORIES:Live Muisc,Tenant activations
ATTACH;FMTTYPE=image/png:https://raleighironworks.com/wp-content/uploads/2025/11/Event-Header-Image-Format-.png
END:VEVENT
BEGIN:VEVENT
DTSTART;TZID=America/Los_Angeles:20251213T193000
DTEND;TZID=America/Los_Angeles:20251213T233000
DTSTAMP:20260419T074403
CREATED:20251114T144132Z
LAST-MODIFIED:20251114T144840Z
UID:10004667-1765654200-1765668600@raleighironworks.com
SUMMARY:Shows at Cannonball Music Hall
DESCRIPTION:
URL:https://raleighironworks.com/event/shows-at-cannonball-music-hall/2025-12-13/
LOCATION:Cannonball Music Hall\, 2304 Atlantic Ave\, Raleigh\,\, NC\, 27604\, United States
CATEGORIES:Live Muisc,Tenant activations
ATTACH;FMTTYPE=image/png:https://raleighironworks.com/wp-content/uploads/2025/11/Event-Header-Image-Format-.png
END:VEVENT
BEGIN:VEVENT
DTSTART;TZID=America/Los_Angeles:20251212T193000
DTEND;TZID=America/Los_Angeles:20251212T233000
DTSTAMP:20260419T074403
CREATED:20251114T144132Z
LAST-MODIFIED:20251114T144840Z
UID:10004666-1765567800-1765582200@raleighironworks.com
SUMMARY:Shows at Cannonball Music Hall
DESCRIPTION:
URL:https://raleighironworks.com/event/shows-at-cannonball-music-hall/2025-12-12/
LOCATION:Cannonball Music Hall\, 2304 Atlantic Ave\, Raleigh\,\, NC\, 27604\, United States
CATEGORIES:Live Muisc,Tenant activations
ATTACH;FMTTYPE=image/png:https://raleighironworks.com/wp-content/uploads/2025/11/Event-Header-Image-Format-.png
END:VEVENT
BEGIN:VEVENT
DTSTART;TZID=America/Los_Angeles:20251211T193000
DTEND;TZID=America/Los_Angeles:20251211T233000
DTSTAMP:20260419T074403
CREATED:20251114T144132Z
LAST-MODIFIED:20251114T144840Z
UID:10004665-1765481400-1765495800@raleighironworks.com
SUMMARY:Shows at Cannonball Music Hall
DESCRIPTION:
URL:https://raleighironworks.com/event/shows-at-cannonball-music-hall/2025-12-11/
LOCATION:Cannonball Music Hall\, 2304 Atlantic Ave\, Raleigh\,\, NC\, 27604\, United States
CATEGORIES:Live Muisc,Tenant activations
ATTACH;FMTTYPE=image/png:https://raleighironworks.com/wp-content/uploads/2025/11/Event-Header-Image-Format-.png
END:VEVENT
BEGIN:VEVENT
DTSTART;TZID=America/Los_Angeles:20251210T193000
DTEND;TZID=America/Los_Angeles:20251210T233000
DTSTAMP:20260419T074403
CREATED:20251114T144132Z
LAST-MODIFIED:20251114T144840Z
UID:10004664-1765395000-1765409400@raleighironworks.com
SUMMARY:Shows at Cannonball Music Hall
DESCRIPTION:
URL:https://raleighironworks.com/event/shows-at-cannonball-music-hall/2025-12-10/
LOCATION:Cannonball Music Hall\, 2304 Atlantic Ave\, Raleigh\,\, NC\, 27604\, United States
CATEGORIES:Live Muisc,Tenant activations
ATTACH;FMTTYPE=image/png:https://raleighironworks.com/wp-content/uploads/2025/11/Event-Header-Image-Format-.png
END:VEVENT
BEGIN:VEVENT
DTSTART;TZID=America/Los_Angeles:20251206T193000
DTEND;TZID=America/Los_Angeles:20251206T233000
DTSTAMP:20260419T074403
CREATED:20251114T144132Z
LAST-MODIFIED:20251114T144840Z
UID:10004663-1765049400-1765063800@raleighironworks.com
SUMMARY:Shows at Cannonball Music Hall
DESCRIPTION:
URL:https://raleighironworks.com/event/shows-at-cannonball-music-hall/2025-12-06/
LOCATION:Cannonball Music Hall\, 2304 Atlantic Ave\, Raleigh\,\, NC\, 27604\, United States
CATEGORIES:Live Muisc,Tenant activations
ATTACH;FMTTYPE=image/png:https://raleighironworks.com/wp-content/uploads/2025/11/Event-Header-Image-Format-.png
END:VEVENT
BEGIN:VEVENT
DTSTART;TZID=America/Los_Angeles:20251205T193000
DTEND;TZID=America/Los_Angeles:20251205T233000
DTSTAMP:20260419T074403
CREATED:20251114T144132Z
LAST-MODIFIED:20251114T144840Z
UID:10004662-1764963000-1764977400@raleighironworks.com
SUMMARY:Shows at Cannonball Music Hall
DESCRIPTION:
URL:https://raleighironworks.com/event/shows-at-cannonball-music-hall/2025-12-05/
LOCATION:Cannonball Music Hall\, 2304 Atlantic Ave\, Raleigh\,\, NC\, 27604\, United States
CATEGORIES:Live Muisc,Tenant activations
ATTACH;FMTTYPE=image/png:https://raleighironworks.com/wp-content/uploads/2025/11/Event-Header-Image-Format-.png
END:VEVENT
BEGIN:VEVENT
DTSTART;TZID=America/Los_Angeles:20251203T193000
DTEND;TZID=America/Los_Angeles:20251203T233000
DTSTAMP:20260419T074403
CREATED:20251114T144132Z
LAST-MODIFIED:20251114T144840Z
UID:10004661-1764790200-1764804600@raleighironworks.com
SUMMARY:Shows at Cannonball Music Hall
DESCRIPTION:
URL:https://raleighironworks.com/event/shows-at-cannonball-music-hall/2025-12-03/
LOCATION:Cannonball Music Hall\, 2304 Atlantic Ave\, Raleigh\,\, NC\, 27604\, United States
CATEGORIES:Live Muisc,Tenant activations
ATTACH;FMTTYPE=image/png:https://raleighironworks.com/wp-content/uploads/2025/11/Event-Header-Image-Format-.png
END:VEVENT
BEGIN:VEVENT
DTSTART;TZID=America/Los_Angeles:20251126T193000
DTEND;TZID=America/Los_Angeles:20251126T233000
DTSTAMP:20260419T074403
CREATED:20251114T144132Z
LAST-MODIFIED:20251114T144840Z
UID:10004660-1764185400-1764199800@raleighironworks.com
SUMMARY:Shows at Cannonball Music Hall
DESCRIPTION:
URL:https://raleighironworks.com/event/shows-at-cannonball-music-hall/2025-11-26/
LOCATION:Cannonball Music Hall\, 2304 Atlantic Ave\, Raleigh\,\, NC\, 27604\, United States
CATEGORIES:Live Muisc,Tenant activations
ATTACH;FMTTYPE=image/png:https://raleighironworks.com/wp-content/uploads/2025/11/Event-Header-Image-Format-.png
END:VEVENT
BEGIN:VEVENT
DTSTART;TZID=America/Los_Angeles:20251122T193000
DTEND;TZID=America/Los_Angeles:20251122T233000
DTSTAMP:20260419T074403
CREATED:20251114T144132Z
LAST-MODIFIED:20251114T144840Z
UID:10004659-1763839800-1763854200@raleighironworks.com
SUMMARY:Shows at Cannonball Music Hall
DESCRIPTION:
URL:https://raleighironworks.com/event/shows-at-cannonball-music-hall/2025-11-22/
LOCATION:Cannonball Music Hall\, 2304 Atlantic Ave\, Raleigh\,\, NC\, 27604\, United States
CATEGORIES:Live Muisc,Tenant activations
ATTACH;FMTTYPE=image/png:https://raleighironworks.com/wp-content/uploads/2025/11/Event-Header-Image-Format-.png
END:VEVENT
BEGIN:VEVENT
DTSTART;TZID=America/Los_Angeles:20251121T193000
DTEND;TZID=America/Los_Angeles:20251121T233000
DTSTAMP:20260419T074403
CREATED:20251114T144132Z
LAST-MODIFIED:20251114T144840Z
UID:10004658-1763753400-1763767800@raleighironworks.com
SUMMARY:Shows at Cannonball Music Hall
DESCRIPTION:
URL:https://raleighironworks.com/event/shows-at-cannonball-music-hall/2025-11-21/
LOCATION:Cannonball Music Hall\, 2304 Atlantic Ave\, Raleigh\,\, NC\, 27604\, United States
CATEGORIES:Live Muisc,Tenant activations
ATTACH;FMTTYPE=image/png:https://raleighironworks.com/wp-content/uploads/2025/11/Event-Header-Image-Format-.png
END:VEVENT
BEGIN:VEVENT
DTSTART;TZID=America/Los_Angeles:20251119T193000
DTEND;TZID=America/Los_Angeles:20251119T233000
DTSTAMP:20260419T074403
CREATED:20251114T144132Z
LAST-MODIFIED:20251114T144840Z
UID:10004657-1763580600-1763595000@raleighironworks.com
SUMMARY:Shows at Cannonball Music Hall
DESCRIPTION:
URL:https://raleighironworks.com/event/shows-at-cannonball-music-hall/2025-11-19/
LOCATION:Cannonball Music Hall\, 2304 Atlantic Ave\, Raleigh\,\, NC\, 27604\, United States
CATEGORIES:Live Muisc,Tenant activations
ATTACH;FMTTYPE=image/png:https://raleighironworks.com/wp-content/uploads/2025/11/Event-Header-Image-Format-.png
END:VEVENT
BEGIN:VEVENT
DTSTART;TZID=America/Los_Angeles:20251115T193000
DTEND;TZID=America/Los_Angeles:20251115T233000
DTSTAMP:20260419T074403
CREATED:20251114T144132Z
LAST-MODIFIED:20251114T144840Z
UID:10004656-1763235000-1763249400@raleighironworks.com
SUMMARY:Shows at Cannonball Music Hall
DESCRIPTION:
URL:https://raleighironworks.com/event/shows-at-cannonball-music-hall/2025-11-15/
LOCATION:Cannonball Music Hall\, 2304 Atlantic Ave\, Raleigh\,\, NC\, 27604\, United States
CATEGORIES:Live Muisc,Tenant activations
ATTACH;FMTTYPE=image/png:https://raleighironworks.com/wp-content/uploads/2025/11/Event-Header-Image-Format-.png
END:VEVENT
BEGIN:VEVENT
DTSTART;TZID=America/Los_Angeles:20251114T193000
DTEND;TZID=America/Los_Angeles:20251114T193000
DTSTAMP:20260419T074403
CREATED:20251114T144132Z
LAST-MODIFIED:20251114T144840Z
UID:10004655-1763148600-1763148600@raleighironworks.com
SUMMARY:Shows at Cannonball Music Hall
DESCRIPTION:
URL:https://raleighironworks.com/event/shows-at-cannonball-music-hall/2025-11-14/
LOCATION:Cannonball Music Hall\, 2304 Atlantic Ave\, Raleigh\,\, NC\, 27604\, United States
CATEGORIES:Live Muisc,Tenant activations
ATTACH;FMTTYPE=image/png:https://raleighironworks.com/wp-content/uploads/2025/11/Event-Header-Image-Format-.png
END:VEVENT
END:VCALENDAR