BEGIN:VCALENDAR
VERSION:2.0
PRODID:-//Raleigh Iron Works - ECPv6.15.20//NONSGML v1.0//EN
CALSCALE:GREGORIAN
METHOD:PUBLISH
X-ORIGINAL-URL:https://raleighironworks.com
X-WR-CALDESC:Events for Raleigh Iron Works
REFRESH-INTERVAL;VALUE=DURATION:PT1H
X-Robots-Tag:noindex
X-PUBLISHED-TTL:PT1H
BEGIN:VTIMEZONE
TZID:America/New_York
BEGIN:DAYLIGHT
TZOFFSETFROM:-0500
TZOFFSETTO:-0400
TZNAME:EDT
DTSTART:20250309T070000
END:DAYLIGHT
BEGIN:STANDARD
TZOFFSETFROM:-0400
TZOFFSETTO:-0500
TZNAME:EST
DTSTART:20251102T060000
END:STANDARD
BEGIN:DAYLIGHT
TZOFFSETFROM:-0500
TZOFFSETTO:-0400
TZNAME:EDT
DTSTART:20260308T070000
END:DAYLIGHT
BEGIN:STANDARD
TZOFFSETFROM:-0400
TZOFFSETTO:-0500
TZNAME:EST
DTSTART:20261101T060000
END:STANDARD
BEGIN:DAYLIGHT
TZOFFSETFROM:-0500
TZOFFSETTO:-0400
TZNAME:EDT
DTSTART:20270314T070000
END:DAYLIGHT
BEGIN:STANDARD
TZOFFSETFROM:-0400
TZOFFSETTO:-0500
TZNAME:EST
DTSTART:20271107T060000
END:STANDARD
END:VTIMEZONE
BEGIN:VEVENT
DTSTART;TZID=America/New_York:20260508T100000
DTEND;TZID=America/New_York:20260508T190000
DTSTAMP:20260424T082006
CREATED:20260423T195841Z
LAST-MODIFIED:20260423T200356Z
UID:10004690-1778234400-1778266800@raleighironworks.com
SUMMARY:Free Gift Extravaganza at The Flourish Market
DESCRIPTION:May 8-9 10am-7pm \nMay 10th 10am-5pm \nCelebrate Mother’s Day weekend with The Flourish Market’s Free Gift Extravaganza\, happening May 8th-10th! Come enjoy a fun shopping experience filled with unique gifts\, perfect for the moms and mother figures in your life. Don’t miss this chance to celebrate\, support small businesses\, and make Mother’s Day extra special!
URL:https://raleighironworks.com/event/free-gift-extravaganza-at-the-flourish-market/
LOCATION:The Flourish Market\, 2201 Iron Works Drive Suite 101\, Raleigh\, NC\, 27604\, United States
CATEGORIES:Shopping,Tenant activations
ATTACH;FMTTYPE=image/png:https://raleighironworks.com/wp-content/uploads/2026/04/Flourish-free-gift-image.png
END:VEVENT
END:VCALENDAR