BEGIN:VCALENDAR
VERSION:2.0
PRODID:-//Raleigh Iron Works - ECPv6.15.20//NONSGML v1.0//EN
CALSCALE:GREGORIAN
METHOD:PUBLISH
X-ORIGINAL-URL:https://raleighironworks.com
X-WR-CALDESC:Events for Raleigh Iron Works
REFRESH-INTERVAL;VALUE=DURATION:PT1H
X-Robots-Tag:noindex
X-PUBLISHED-TTL:PT1H
BEGIN:VTIMEZONE
TZID:UTC
BEGIN:STANDARD
TZOFFSETFROM:+0000
TZOFFSETTO:+0000
TZNAME:UTC
DTSTART:20230101T000000
END:STANDARD
END:VTIMEZONE
BEGIN:VEVENT
DTSTART;TZID=UTC:20250618T193000
DTEND;TZID=UTC:20250618T204500
DTSTAMP:20260421T013656
CREATED:20250611T022145Z
LAST-MODIFIED:20250611T022145Z
UID:10004475-1750275000-1750279500@raleighironworks.com
SUMMARY:YoBa Glow and Flow
DESCRIPTION:Let’s Glow and Flow together! Join YoBa Studio for a 75 minute yoga class on Wednesday 6/18 @ 7:30pm in the Raleigh Iron Works Courtyard. \nTicket includes your spot in class\, glow sticks and glow paint! \nBring a Yoga mat & water. $35 tickets are non-refundable and non-transferable. Member discount applied at final check out.
URL:https://raleighironworks.com/event/yoba-glow-and-flow/
LOCATION:Raleigh Iron Works\, 2200 Atlantic Ave\, Raleigh\, NC\, 27604\, United States
ATTACH;FMTTYPE=image/png:https://raleighironworks.com/wp-content/uploads/2025/06/Untitled-design-15.png
END:VEVENT
BEGIN:VEVENT
DTSTART;TZID=UTC:20240217T100000
DTEND;TZID=UTC:20240217T110000
DTSTAMP:20260421T013656
CREATED:20240110T033946Z
LAST-MODIFIED:20240212T224955Z
UID:10000005-1708164000-1708167600@raleighironworks.com
SUMMARY:YOBA in the Yard with Blend of Soul
DESCRIPTION:  \n  \nMake working out fun this year! Join YoBa Studio outdoors in the Yard at Raleigh Iron Works for a 45-minute signature workout class – a combo of yoga + barre + strength + cardio. \nSneakers & yoga mat required. Bundle up\, but we’ll bring the heat! \nAll participants will be entered to win a free Founding Membership. \nYoBa Studio\, opening 2024\, is your fitness home for the variety of workouts you need all in one studio. Specializing in infrared yoga\, barre\, strength\, and cardio classes\, we’re on a mission to help you create a diverse exercise routine you love while getting the results you want! \nWe’ll have a special food truck pop-up Blend of Soul that you won’t want to miss!  \nSign up for this event here! \n 
URL:https://raleighironworks.com/event/yoba-in-the-yard/
LOCATION:Raleigh Iron Works\, 2200 Atlantic Ave\, Raleigh\, NC\, 27604\, United States
ATTACH;FMTTYPE=image/jpeg:https://raleighironworks.com/wp-content/uploads/2024/01/YOGA-IN-THE-YARD-1-e1704829160755.jpg
END:VEVENT
END:VCALENDAR